BEGIN:VCALENDAR
VERSION:2.0
PRODID:-//Créer dans l&#039;Aube - ECPv6.15.20//NONSGML v1.0//EN
CALSCALE:GREGORIAN
METHOD:PUBLISH
X-ORIGINAL-URL:https://creerdanslaube.fr
X-WR-CALDESC:Évènements pour Créer dans l&#039;Aube
REFRESH-INTERVAL;VALUE=DURATION:PT1H
X-Robots-Tag:noindex
X-PUBLISHED-TTL:PT1H
BEGIN:VTIMEZONE
TZID:Europe/Paris
BEGIN:DAYLIGHT
TZOFFSETFROM:+0100
TZOFFSETTO:+0200
TZNAME:CEST
DTSTART:20250330T010000
END:DAYLIGHT
BEGIN:STANDARD
TZOFFSETFROM:+0200
TZOFFSETTO:+0100
TZNAME:CET
DTSTART:20251026T010000
END:STANDARD
BEGIN:DAYLIGHT
TZOFFSETFROM:+0100
TZOFFSETTO:+0200
TZNAME:CEST
DTSTART:20260329T010000
END:DAYLIGHT
BEGIN:STANDARD
TZOFFSETFROM:+0200
TZOFFSETTO:+0100
TZNAME:CET
DTSTART:20261025T010000
END:STANDARD
BEGIN:DAYLIGHT
TZOFFSETFROM:+0100
TZOFFSETTO:+0200
TZNAME:CEST
DTSTART:20270328T010000
END:DAYLIGHT
BEGIN:STANDARD
TZOFFSETFROM:+0200
TZOFFSETTO:+0100
TZNAME:CET
DTSTART:20271031T010000
END:STANDARD
END:VTIMEZONE
BEGIN:VEVENT
DTSTART;TZID=Europe/Paris:20260608T140000
DTEND;TZID=Europe/Paris:20260608T150000
DTSTAMP:20260425T195406
CREATED:20260115T090409Z
LAST-MODIFIED:20260115T090409Z
UID:2030-1780927200-1780930800@creerdanslaube.fr
SUMMARY:Vous êtes en difficulté ? l’Urssaf et la CPAM vous accompagnent.
DESCRIPTION:
URL:https://creerdanslaube.fr/evenement/vous-etes-en-difficulte-lurssaf-et-la-cpam-vous-accompagnent/
LOCATION:En visio
CATEGORIES:Webinaires
END:VEVENT
BEGIN:VEVENT
DTSTART;TZID=Europe/Paris:20260618T140000
DTEND;TZID=Europe/Paris:20260618T150000
DTSTAMP:20260425T195406
CREATED:20260115T093310Z
LAST-MODIFIED:20260115T093310Z
UID:2058-1781791200-1781794800@creerdanslaube.fr
SUMMARY:ADIE–Urssaf : un accompagnement pour les entrepreneurs
DESCRIPTION:
URL:https://creerdanslaube.fr/evenement/adie-urssaf-un-accompagnement-pour-les-entrepreneurs-6/
LOCATION:En visio
CATEGORIES:Webinaires
END:VEVENT
BEGIN:VEVENT
DTSTART;TZID=Europe/Paris:20260629T140000
DTEND;TZID=Europe/Paris:20260629T150000
DTSTAMP:20260425T195406
CREATED:20260115T085955Z
LAST-MODIFIED:20260115T085955Z
UID:2026-1782741600-1782745200@creerdanslaube.fr
SUMMARY:Travailleur indépendant : tout savoir sur votre protection sociale
DESCRIPTION:
URL:https://creerdanslaube.fr/evenement/travailleur-independant-tout-savoir-sur-votre-protection-sociale-3/
LOCATION:En visio
CATEGORIES:Webinaires
END:VEVENT
BEGIN:VEVENT
DTSTART;TZID=Europe/Paris:20260629T140000
DTEND;TZID=Europe/Paris:20260629T150000
DTSTAMP:20260425T195406
CREATED:20260115T092209Z
LAST-MODIFIED:20260115T092209Z
UID:2044-1782741600-1782745200@creerdanslaube.fr
SUMMARY:Travailleur indépendant : tout savoir sur votre protection sociale
DESCRIPTION:
URL:https://creerdanslaube.fr/evenement/travailleur-independant-tout-savoir-sur-votre-protection-sociale-7/
LOCATION:En visio
CATEGORIES:Webinaires
END:VEVENT
END:VCALENDAR