BEGIN:VCALENDAR
VERSION:2.0
PRODID:-//Créer dans l&#039;Aube - ECPv6.15.20//NONSGML v1.0//EN
CALSCALE:GREGORIAN
METHOD:PUBLISH
X-ORIGINAL-URL:https://creerdanslaube.fr
X-WR-CALDESC:Évènements pour Créer dans l&#039;Aube
REFRESH-INTERVAL;VALUE=DURATION:PT1H
X-Robots-Tag:noindex
X-PUBLISHED-TTL:PT1H
BEGIN:VTIMEZONE
TZID:Europe/Paris
BEGIN:DAYLIGHT
TZOFFSETFROM:+0100
TZOFFSETTO:+0200
TZNAME:CEST
DTSTART:20250330T010000
END:DAYLIGHT
BEGIN:STANDARD
TZOFFSETFROM:+0200
TZOFFSETTO:+0100
TZNAME:CET
DTSTART:20251026T010000
END:STANDARD
BEGIN:DAYLIGHT
TZOFFSETFROM:+0100
TZOFFSETTO:+0200
TZNAME:CEST
DTSTART:20260329T010000
END:DAYLIGHT
BEGIN:STANDARD
TZOFFSETFROM:+0200
TZOFFSETTO:+0100
TZNAME:CET
DTSTART:20261025T010000
END:STANDARD
BEGIN:DAYLIGHT
TZOFFSETFROM:+0100
TZOFFSETTO:+0200
TZNAME:CEST
DTSTART:20270328T010000
END:DAYLIGHT
BEGIN:STANDARD
TZOFFSETFROM:+0200
TZOFFSETTO:+0100
TZNAME:CET
DTSTART:20271031T010000
END:STANDARD
END:VTIMEZONE
BEGIN:VEVENT
DTSTART;TZID=Europe/Paris:20260511T140000
DTEND;TZID=Europe/Paris:20260511T150000
DTSTAMP:20260425T183132
CREATED:20260115T090741Z
LAST-MODIFIED:20260115T090741Z
UID:2034-1778508000-1778511600@creerdanslaube.fr
SUMMARY:Travailleur indépendant : l’Urssaf vous accompagne
DESCRIPTION:
URL:https://creerdanslaube.fr/evenement/travailleur-independant-lurssaf-vous-accompagne/
LOCATION:En visio
CATEGORIES:Webinaires
END:VEVENT
BEGIN:VEVENT
DTSTART;TZID=Europe/Paris:20260521T140000
DTEND;TZID=Europe/Paris:20260521T150000
DTSTAMP:20260425T183132
CREATED:20260115T093157Z
LAST-MODIFIED:20260115T093157Z
UID:2056-1779372000-1779375600@creerdanslaube.fr
SUMMARY:ADIE–Urssaf : un accompagnement pour les entrepreneurs
DESCRIPTION:
URL:https://creerdanslaube.fr/evenement/adie-urssaf-un-accompagnement-pour-les-entrepreneurs-5/
LOCATION:En visio
CATEGORIES:Webinaires
END:VEVENT
END:VCALENDAR