BEGIN:VCALENDAR
VERSION:2.0
PRODID:-//Créer dans l&#039;Aube - ECPv6.15.20//NONSGML v1.0//EN
CALSCALE:GREGORIAN
METHOD:PUBLISH
X-ORIGINAL-URL:https://creerdanslaube.fr
X-WR-CALDESC:Évènements pour Créer dans l&#039;Aube
REFRESH-INTERVAL;VALUE=DURATION:PT1H
X-Robots-Tag:noindex
X-PUBLISHED-TTL:PT1H
BEGIN:VTIMEZONE
TZID:Europe/Paris
BEGIN:DAYLIGHT
TZOFFSETFROM:+0100
TZOFFSETTO:+0200
TZNAME:CEST
DTSTART:20250330T010000
END:DAYLIGHT
BEGIN:STANDARD
TZOFFSETFROM:+0200
TZOFFSETTO:+0100
TZNAME:CET
DTSTART:20251026T010000
END:STANDARD
BEGIN:DAYLIGHT
TZOFFSETFROM:+0100
TZOFFSETTO:+0200
TZNAME:CEST
DTSTART:20260329T010000
END:DAYLIGHT
BEGIN:STANDARD
TZOFFSETFROM:+0200
TZOFFSETTO:+0100
TZNAME:CET
DTSTART:20261025T010000
END:STANDARD
BEGIN:DAYLIGHT
TZOFFSETFROM:+0100
TZOFFSETTO:+0200
TZNAME:CEST
DTSTART:20270328T010000
END:DAYLIGHT
BEGIN:STANDARD
TZOFFSETFROM:+0200
TZOFFSETTO:+0100
TZNAME:CET
DTSTART:20271031T010000
END:STANDARD
END:VTIMEZONE
BEGIN:VEVENT
DTSTART;TZID=Europe/Paris:20260312T120000
DTEND;TZID=Europe/Paris:20260312T123000
DTSTAMP:20260425T183903
CREATED:20260109T144022Z
LAST-MODIFIED:20260109T144022Z
UID:1991-1773316800-1773318600@creerdanslaube.fr
SUMMARY:Votre pause juridique par la CCI
DESCRIPTION:
URL:https://creerdanslaube.fr/evenement/votre-pause-juridique-par-la-cci/
LOCATION:En visio
CATEGORIES:Webinaires
END:VEVENT
BEGIN:VEVENT
DTSTART;TZID=Europe/Paris:20260316T140000
DTEND;TZID=Europe/Paris:20260316T150000
DTSTAMP:20260425T183903
CREATED:20260115T090951Z
LAST-MODIFIED:20260115T090951Z
UID:2036-1773669600-1773673200@creerdanslaube.fr
SUMMARY:Le statut de l'auto-entrepreneur
DESCRIPTION:
URL:https://creerdanslaube.fr/evenement/le-statut-de-lauto-entrepreneur/
LOCATION:En visio
CATEGORIES:Webinaires
END:VEVENT
BEGIN:VEVENT
DTSTART;TZID=Europe/Paris:20260319T140000
DTEND;TZID=Europe/Paris:20260319T150000
DTSTAMP:20260425T183903
CREATED:20260115T092822Z
LAST-MODIFIED:20260115T092822Z
UID:2052-1773928800-1773932400@creerdanslaube.fr
SUMMARY:ADIE–Urssaf : un accompagnement pour les entrepreneurs
DESCRIPTION:
URL:https://creerdanslaube.fr/evenement/adie-urssaf-un-accompagnement-pour-les-entrepreneurs-3/
LOCATION:En visio
CATEGORIES:Webinaires
END:VEVENT
END:VCALENDAR