BEGIN:VCALENDAR
VERSION:2.0
PRODID:-//Créer dans l&#039;Aube - ECPv6.15.20//NONSGML v1.0//EN
CALSCALE:GREGORIAN
METHOD:PUBLISH
X-ORIGINAL-URL:https://creerdanslaube.fr
X-WR-CALDESC:Évènements pour Créer dans l&#039;Aube
REFRESH-INTERVAL;VALUE=DURATION:PT1H
X-Robots-Tag:noindex
X-PUBLISHED-TTL:PT1H
BEGIN:VTIMEZONE
TZID:Europe/Paris
BEGIN:DAYLIGHT
TZOFFSETFROM:+0100
TZOFFSETTO:+0200
TZNAME:CEST
DTSTART:20240331T010000
END:DAYLIGHT
BEGIN:STANDARD
TZOFFSETFROM:+0200
TZOFFSETTO:+0100
TZNAME:CET
DTSTART:20241027T010000
END:STANDARD
BEGIN:DAYLIGHT
TZOFFSETFROM:+0100
TZOFFSETTO:+0200
TZNAME:CEST
DTSTART:20250330T010000
END:DAYLIGHT
BEGIN:STANDARD
TZOFFSETFROM:+0200
TZOFFSETTO:+0100
TZNAME:CET
DTSTART:20251026T010000
END:STANDARD
BEGIN:DAYLIGHT
TZOFFSETFROM:+0100
TZOFFSETTO:+0200
TZNAME:CEST
DTSTART:20260329T010000
END:DAYLIGHT
BEGIN:STANDARD
TZOFFSETFROM:+0200
TZOFFSETTO:+0100
TZNAME:CET
DTSTART:20261025T010000
END:STANDARD
END:VTIMEZONE
BEGIN:VEVENT
DTSTART;TZID=Europe/Paris:20251118T103000
DTEND;TZID=Europe/Paris:20251118T120000
DTSTAMP:20260426T001158
CREATED:20250525T150333Z
LAST-MODIFIED:20250525T150333Z
UID:1881-1763461800-1763467200@creerdanslaube.fr
SUMMARY:Rejoins un collectif d’entrepreneurs\, pour créer ou développer ton entreprise avec SYNERCOOP
DESCRIPTION:Tu es porteuse ou porteur d’un projet ou entrepreneur(euse) isolé(e) ?\n➡️ rejoins un collectif d’entrepreneurs\, pour créer ou développer ton entreprise. \nDécouvre les Coopératives d’entrepreneurs (CAE) centrées sur l’humain.\nLa coopérative d’entrepreneurs (CAE) t’aide à définir\, valider et développer ton activité dans un cadre sécurisé\, avec des outils et des services adaptés : facturation\, comptabilité\, juridique\, formation\, réseau\, certification Qualiopi… \nCréée ou développe ton activité sereinement\, avec un soutien sur mesure ! \n👉 Réservation gratuite par mail : rt-ca@synercoop.org ou par téléphone : 06 70 73 29 23\nRéunion d’information collective de 10h30 à 12h le mardi 18 novembre au Rucher Créatif (17 rue du Colonel Driant\, 10000 Troyes).
URL:https://creerdanslaube.fr/evenement/rejoins-un-collectif-dentrepreneurs-pour-creer-ou-developper-ton-entreprise-avec-synercoop-5/
LOCATION:Le Rucher Créatif\, 17/19 rue du Colonel Driant\, Troyes\, 17/19 Rue du Colonel Driant\, Troyes\, 10000
CATEGORIES:Réunion d'information
ORGANIZER;CN="Synercoop":MAILTO:contact@synercoop.org
END:VEVENT
END:VCALENDAR