BEGIN:VCALENDAR
VERSION:2.0
PRODID:-//Créer dans l&#039;Aube - ECPv6.15.20//NONSGML v1.0//EN
CALSCALE:GREGORIAN
METHOD:PUBLISH
X-WR-CALNAME:Créer dans l&#039;Aube
X-ORIGINAL-URL:https://creerdanslaube.fr
X-WR-CALDESC:Évènements pour Créer dans l&#039;Aube
REFRESH-INTERVAL;VALUE=DURATION:PT1H
X-Robots-Tag:noindex
X-PUBLISHED-TTL:PT1H
BEGIN:VTIMEZONE
TZID:Europe/Paris
BEGIN:DAYLIGHT
TZOFFSETFROM:+0100
TZOFFSETTO:+0200
TZNAME:CEST
DTSTART:20250330T010000
END:DAYLIGHT
BEGIN:STANDARD
TZOFFSETFROM:+0200
TZOFFSETTO:+0100
TZNAME:CET
DTSTART:20251026T010000
END:STANDARD
BEGIN:DAYLIGHT
TZOFFSETFROM:+0100
TZOFFSETTO:+0200
TZNAME:CEST
DTSTART:20260329T010000
END:DAYLIGHT
BEGIN:STANDARD
TZOFFSETFROM:+0200
TZOFFSETTO:+0100
TZNAME:CET
DTSTART:20261025T010000
END:STANDARD
BEGIN:DAYLIGHT
TZOFFSETFROM:+0100
TZOFFSETTO:+0200
TZNAME:CEST
DTSTART:20270328T010000
END:DAYLIGHT
BEGIN:STANDARD
TZOFFSETFROM:+0200
TZOFFSETTO:+0100
TZNAME:CET
DTSTART:20271031T010000
END:STANDARD
END:VTIMEZONE
BEGIN:VEVENT
DTSTART;TZID=Europe/Paris:20260427T140000
DTEND;TZID=Europe/Paris:20260427T150000
DTSTAMP:20260426T030529
CREATED:20260115T085418Z
LAST-MODIFIED:20260115T085418Z
UID:2024-1777298400-1777302000@creerdanslaube.fr
SUMMARY:Travailleur indépendant : tout savoir sur votre protection sociale
DESCRIPTION:
URL:https://creerdanslaube.fr/evenement/travailleur-independant-tout-savoir-sur-votre-protection-sociale-2/
LOCATION:En visio
CATEGORIES:Webinaires
END:VEVENT
BEGIN:VEVENT
DTSTART;TZID=Europe/Paris:20260427T140000
DTEND;TZID=Europe/Paris:20260427T150000
DTSTAMP:20260426T030529
CREATED:20260115T092044Z
LAST-MODIFIED:20260115T092044Z
UID:2042-1777298400-1777302000@creerdanslaube.fr
SUMMARY:Travailleur indépendant : tout savoir sur votre protection sociale
DESCRIPTION:
URL:https://creerdanslaube.fr/evenement/travailleur-independant-tout-savoir-sur-votre-protection-sociale-6/
LOCATION:En visio
CATEGORIES:Webinaires
END:VEVENT
BEGIN:VEVENT
DTSTART;TZID=Europe/Paris:20260511T140000
DTEND;TZID=Europe/Paris:20260511T150000
DTSTAMP:20260426T030529
CREATED:20260115T090741Z
LAST-MODIFIED:20260115T090741Z
UID:2034-1778508000-1778511600@creerdanslaube.fr
SUMMARY:Travailleur indépendant : l’Urssaf vous accompagne
DESCRIPTION:
URL:https://creerdanslaube.fr/evenement/travailleur-independant-lurssaf-vous-accompagne/
LOCATION:En visio
CATEGORIES:Webinaires
END:VEVENT
BEGIN:VEVENT
DTSTART;TZID=Europe/Paris:20260512T100000
DTEND;TZID=Europe/Paris:20260512T120000
DTSTAMP:20260426T030529
CREATED:20260112T084308Z
LAST-MODIFIED:20260112T084308Z
UID:2008-1778580000-1778587200@creerdanslaube.fr
SUMMARY:Entreprendre en coopérative - par Synercoop
DESCRIPTION:
URL:https://creerdanslaube.fr/evenement/entreprendre-en-cooperative-par-synercoop-4/
LOCATION:Le Rucher Créatif\, 17/19 rue du Colonel Driant\, Troyes\, 17/19 Rue du Colonel Driant\, Troyes\, 10000
CATEGORIES:Réunion d'information
ORGANIZER;CN="Synercoop":MAILTO:contact@synercoop.org
END:VEVENT
BEGIN:VEVENT
DTSTART;TZID=Europe/Paris:20260521T140000
DTEND;TZID=Europe/Paris:20260521T150000
DTSTAMP:20260426T030529
CREATED:20260115T093157Z
LAST-MODIFIED:20260115T093157Z
UID:2056-1779372000-1779375600@creerdanslaube.fr
SUMMARY:ADIE–Urssaf : un accompagnement pour les entrepreneurs
DESCRIPTION:
URL:https://creerdanslaube.fr/evenement/adie-urssaf-un-accompagnement-pour-les-entrepreneurs-5/
LOCATION:En visio
CATEGORIES:Webinaires
END:VEVENT
BEGIN:VEVENT
DTSTART;TZID=Europe/Paris:20260608T140000
DTEND;TZID=Europe/Paris:20260608T150000
DTSTAMP:20260426T030529
CREATED:20260115T090409Z
LAST-MODIFIED:20260115T090409Z
UID:2030-1780927200-1780930800@creerdanslaube.fr
SUMMARY:Vous êtes en difficulté ? l’Urssaf et la CPAM vous accompagnent.
DESCRIPTION:
URL:https://creerdanslaube.fr/evenement/vous-etes-en-difficulte-lurssaf-et-la-cpam-vous-accompagnent/
LOCATION:En visio
CATEGORIES:Webinaires
END:VEVENT
BEGIN:VEVENT
DTSTART;TZID=Europe/Paris:20260609T100000
DTEND;TZID=Europe/Paris:20260609T120000
DTSTAMP:20260426T030529
CREATED:20260112T084406Z
LAST-MODIFIED:20260112T084406Z
UID:2010-1780999200-1781006400@creerdanslaube.fr
SUMMARY:Entreprendre en coopérative - par Synercoop
DESCRIPTION:
URL:https://creerdanslaube.fr/evenement/entreprendre-en-cooperative-par-synercoop-5/
LOCATION:Le Rucher Créatif\, 17/19 rue du Colonel Driant\, Troyes\, 17/19 Rue du Colonel Driant\, Troyes\, 10000
CATEGORIES:Réunion d'information
ORGANIZER;CN="Synercoop":MAILTO:contact@synercoop.org
END:VEVENT
BEGIN:VEVENT
DTSTART;TZID=Europe/Paris:20260618T140000
DTEND;TZID=Europe/Paris:20260618T150000
DTSTAMP:20260426T030529
CREATED:20260115T093310Z
LAST-MODIFIED:20260115T093310Z
UID:2058-1781791200-1781794800@creerdanslaube.fr
SUMMARY:ADIE–Urssaf : un accompagnement pour les entrepreneurs
DESCRIPTION:
URL:https://creerdanslaube.fr/evenement/adie-urssaf-un-accompagnement-pour-les-entrepreneurs-6/
LOCATION:En visio
CATEGORIES:Webinaires
END:VEVENT
BEGIN:VEVENT
DTSTART;TZID=Europe/Paris:20260629T140000
DTEND;TZID=Europe/Paris:20260629T150000
DTSTAMP:20260426T030529
CREATED:20260115T085955Z
LAST-MODIFIED:20260115T085955Z
UID:2026-1782741600-1782745200@creerdanslaube.fr
SUMMARY:Travailleur indépendant : tout savoir sur votre protection sociale
DESCRIPTION:
URL:https://creerdanslaube.fr/evenement/travailleur-independant-tout-savoir-sur-votre-protection-sociale-3/
LOCATION:En visio
CATEGORIES:Webinaires
END:VEVENT
BEGIN:VEVENT
DTSTART;TZID=Europe/Paris:20260629T140000
DTEND;TZID=Europe/Paris:20260629T150000
DTSTAMP:20260426T030529
CREATED:20260115T092209Z
LAST-MODIFIED:20260115T092209Z
UID:2044-1782741600-1782745200@creerdanslaube.fr
SUMMARY:Travailleur indépendant : tout savoir sur votre protection sociale
DESCRIPTION:
URL:https://creerdanslaube.fr/evenement/travailleur-independant-tout-savoir-sur-votre-protection-sociale-7/
LOCATION:En visio
CATEGORIES:Webinaires
END:VEVENT
BEGIN:VEVENT
DTSTART;TZID=Europe/Paris:20260702T140000
DTEND;TZID=Europe/Paris:20260702T150000
DTSTAMP:20260426T030529
CREATED:20260115T093429Z
LAST-MODIFIED:20260115T093429Z
UID:2060-1783000800-1783004400@creerdanslaube.fr
SUMMARY:ADIE–Urssaf : un accompagnement pour les entrepreneurs
DESCRIPTION:
URL:https://creerdanslaube.fr/evenement/adie-urssaf-un-accompagnement-pour-les-entrepreneurs-7/
LOCATION:En visio
CATEGORIES:Webinaires
END:VEVENT
BEGIN:VEVENT
DTSTART;TZID=Europe/Paris:20260707T100000
DTEND;TZID=Europe/Paris:20260707T120000
DTSTAMP:20260426T030529
CREATED:20260112T084502Z
LAST-MODIFIED:20260112T084502Z
UID:2012-1783418400-1783425600@creerdanslaube.fr
SUMMARY:Entreprendre en coopérative - par Synercoop
DESCRIPTION:
URL:https://creerdanslaube.fr/evenement/entreprendre-en-cooperative-par-synercoop-6/
LOCATION:Le Rucher Créatif\, 17/19 rue du Colonel Driant\, Troyes\, 17/19 Rue du Colonel Driant\, Troyes\, 10000
CATEGORIES:Réunion d'information
ORGANIZER;CN="Synercoop":MAILTO:contact@synercoop.org
END:VEVENT
BEGIN:VEVENT
DTSTART;TZID=Europe/Paris:20260908T100000
DTEND;TZID=Europe/Paris:20260908T120000
DTSTAMP:20260426T030529
CREATED:20260112T084632Z
LAST-MODIFIED:20260112T084632Z
UID:2014-1788861600-1788868800@creerdanslaube.fr
SUMMARY:Entreprendre en coopérative - par Synercoop
DESCRIPTION:
URL:https://creerdanslaube.fr/evenement/entreprendre-en-cooperative-par-synercoop-7/
LOCATION:Le Rucher Créatif\, 17/19 rue du Colonel Driant\, Troyes\, 17/19 Rue du Colonel Driant\, Troyes\, 10000
CATEGORIES:Réunion d'information
ORGANIZER;CN="Synercoop":MAILTO:contact@synercoop.org
END:VEVENT
BEGIN:VEVENT
DTSTART;TZID=Europe/Paris:20260910T140000
DTEND;TZID=Europe/Paris:20260910T150000
DTSTAMP:20260426T030529
CREATED:20260115T100828Z
LAST-MODIFIED:20260115T100828Z
UID:2066-1789048800-1789052400@creerdanslaube.fr
SUMMARY:ADIE–Urssaf : un accompagnement pour les entrepreneurs
DESCRIPTION:
URL:https://creerdanslaube.fr/evenement/adie-urssaf-un-accompagnement-pour-les-entrepreneurs-8/
LOCATION:En visio
CATEGORIES:Webinaires
END:VEVENT
BEGIN:VEVENT
DTSTART;TZID=Europe/Paris:20261005T140000
DTEND;TZID=Europe/Paris:20261005T150000
DTSTAMP:20260426T030529
CREATED:20260115T090202Z
LAST-MODIFIED:20260115T090202Z
UID:2028-1791208800-1791212400@creerdanslaube.fr
SUMMARY:Travailleur indépendant : tout savoir sur votre protection sociale
DESCRIPTION:
URL:https://creerdanslaube.fr/evenement/travailleur-independant-tout-savoir-sur-votre-protection-sociale-4/
LOCATION:En visio
CATEGORIES:Webinaires
END:VEVENT
BEGIN:VEVENT
DTSTART;TZID=Europe/Paris:20261005T140000
DTEND;TZID=Europe/Paris:20261005T150000
DTSTAMP:20260426T030529
CREATED:20260115T092322Z
LAST-MODIFIED:20260115T092322Z
UID:2046-1791208800-1791212400@creerdanslaube.fr
SUMMARY:Travailleur indépendant : tout savoir sur votre protection sociale
DESCRIPTION:
URL:https://creerdanslaube.fr/evenement/travailleur-independant-tout-savoir-sur-votre-protection-sociale-8/
LOCATION:En visio
CATEGORIES:Webinaires
END:VEVENT
BEGIN:VEVENT
DTSTART;TZID=Europe/Paris:20261013T100000
DTEND;TZID=Europe/Paris:20261013T120000
DTSTAMP:20260426T030529
CREATED:20260112T084738Z
LAST-MODIFIED:20260112T084738Z
UID:2016-1791885600-1791892800@creerdanslaube.fr
SUMMARY:Entreprendre en coopérative - par Synercoop
DESCRIPTION:
URL:https://creerdanslaube.fr/evenement/entreprendre-en-cooperative-par-synercoop-8/
LOCATION:Le Rucher Créatif\, 17/19 rue du Colonel Driant\, Troyes\, 17/19 Rue du Colonel Driant\, Troyes\, 10000
CATEGORIES:Réunion d'information
ORGANIZER;CN="Synercoop":MAILTO:contact@synercoop.org
END:VEVENT
BEGIN:VEVENT
DTSTART;TZID=Europe/Paris:20261015T140000
DTEND;TZID=Europe/Paris:20261015T150000
DTSTAMP:20260426T030529
CREATED:20260115T100950Z
LAST-MODIFIED:20260115T100950Z
UID:2068-1792072800-1792076400@creerdanslaube.fr
SUMMARY:ADIE–Urssaf : un accompagnement pour les entrepreneurs
DESCRIPTION:
URL:https://creerdanslaube.fr/evenement/adie-urssaf-un-accompagnement-pour-les-entrepreneurs-9/
LOCATION:En visio
CATEGORIES:Webinaires
END:VEVENT
BEGIN:VEVENT
DTSTART;TZID=Europe/Paris:20261105T140000
DTEND;TZID=Europe/Paris:20261105T150000
DTSTAMP:20260426T030529
CREATED:20260115T101101Z
LAST-MODIFIED:20260115T101101Z
UID:2070-1793887200-1793890800@creerdanslaube.fr
SUMMARY:ADIE–Urssaf : un accompagnement pour les entrepreneurs
DESCRIPTION:
URL:https://creerdanslaube.fr/evenement/adie-urssaf-un-accompagnement-pour-les-entrepreneurs-10/
LOCATION:En visio
CATEGORIES:Webinaires
END:VEVENT
BEGIN:VEVENT
DTSTART;TZID=Europe/Paris:20261116T140000
DTEND;TZID=Europe/Paris:20261116T150000
DTSTAMP:20260426T030529
CREATED:20260115T091730Z
LAST-MODIFIED:20260115T091730Z
UID:2038-1794837600-1794841200@creerdanslaube.fr
SUMMARY:Le statut de l'auto-entrepreneur
DESCRIPTION:
URL:https://creerdanslaube.fr/evenement/le-statut-de-lauto-entrepreneur-2/
LOCATION:En visio
CATEGORIES:Webinaires
END:VEVENT
BEGIN:VEVENT
DTSTART;TZID=Europe/Paris:20261117T100000
DTEND;TZID=Europe/Paris:20261117T120000
DTSTAMP:20260426T030529
CREATED:20260112T084844Z
LAST-MODIFIED:20260112T084844Z
UID:2018-1794909600-1794916800@creerdanslaube.fr
SUMMARY:Entreprendre en coopérative - par Synercoop
DESCRIPTION:
URL:https://creerdanslaube.fr/evenement/entreprendre-en-cooperative-par-synercoop-9/
LOCATION:Le Rucher Créatif\, 17/19 rue du Colonel Driant\, Troyes\, 17/19 Rue du Colonel Driant\, Troyes\, 10000
CATEGORIES:Réunion d'information
ORGANIZER;CN="Synercoop":MAILTO:contact@synercoop.org
END:VEVENT
BEGIN:VEVENT
DTSTART;TZID=Europe/Paris:20261203T140000
DTEND;TZID=Europe/Paris:20261203T150000
DTSTAMP:20260426T030529
CREATED:20260115T101205Z
LAST-MODIFIED:20260115T101205Z
UID:2072-1796306400-1796310000@creerdanslaube.fr
SUMMARY:ADIE–Urssaf : un accompagnement pour les entrepreneurs
DESCRIPTION:
URL:https://creerdanslaube.fr/evenement/adie-urssaf-un-accompagnement-pour-les-entrepreneurs-11/
LOCATION:En visio
CATEGORIES:Webinaires
END:VEVENT
BEGIN:VEVENT
DTSTART;TZID=Europe/Paris:20261207T140000
DTEND;TZID=Europe/Paris:20261207T150000
DTSTAMP:20260426T030529
CREATED:20260115T090540Z
LAST-MODIFIED:20260115T090540Z
UID:2032-1796652000-1796655600@creerdanslaube.fr
SUMMARY:Vous êtes en difficulté ? l’Urssaf et la CPAM vous accompagnent
DESCRIPTION:
URL:https://creerdanslaube.fr/evenement/vous-etes-en-difficulte-lurssaf-et-la-cpam-vous-accompagnent-2/
LOCATION:En visio
CATEGORIES:Webinaires
END:VEVENT
BEGIN:VEVENT
DTSTART;TZID=Europe/Paris:20261208T100000
DTEND;TZID=Europe/Paris:20261208T120000
DTSTAMP:20260426T030529
CREATED:20260112T084953Z
LAST-MODIFIED:20260112T084953Z
UID:2020-1796724000-1796731200@creerdanslaube.fr
SUMMARY:Entreprendre en coopérative - par Synercoop
DESCRIPTION:
URL:https://creerdanslaube.fr/evenement/entreprendre-en-cooperative-par-synercoop-10/
LOCATION:Le Rucher Créatif\, 17/19 rue du Colonel Driant\, Troyes\, 17/19 Rue du Colonel Driant\, Troyes\, 10000
CATEGORIES:Réunion d'information
ORGANIZER;CN="Synercoop":MAILTO:contact@synercoop.org
END:VEVENT
END:VCALENDAR